Workbook

Sheet Matriz de Custeio
A1: UNIVERSIDADE FEDERAL DO PAMPA
A2: Divisão de Orçamento
A3: Matriz de Custeio Campus 2014- 1ª Parcela
A4: UGR | B4: CAMPUS | C4: Diárias Nacionais (39014) | D4: Diárias Nac. Custeadas por Out. Unidades (339014) | E4: Diárias Col. Eventual (339036) | F4: Diária Col. Ev. Campus Custeadas Por Outras Unidades (339036) | G4: Diárias Exterior (39014) | H4: Passagens Aéreas Nacionais (339033) | I4: Passagens Aéreas Nac. Custeadas Por Outras Unidades (339033) | J4: RestituiçãoPassagens Rodoviárias Nacionais (339093) | K4: Material de Consumo (339030) | L4: Material de Consumo - cartão corp. Suprimento de fundos (339030) | M4: Material de Consumo laboratório (339030) | N4: Serv. Terc. Pessoa Física (339036) | O4: Serv. Terc. Pessoa Juridica (339039) | P4: Serv. Terc. P. J. cartão corp. (339039) | Q4: Fevereiro | R4: Maio | S4: Setembro | T4: Total | U4: %
A5: PI | C5: A20RKG5703 | D5: A20RKG5703 | E5: A20RKG5718N | F5: A20RKG5718N | G5: A20RKG5717N | H5: A20RKG5720N | I5: A20RKG5720N | J5: A20RKG0154N | K5: A20RKG3201N | L5: A20RKG0132N | M5: A20RKG3208N | N5: A20RKG0105N | O5: A20RKG0112N | P5: A20RKG0133N | Q5: 880000 | T5: 2200000
A6: 150286 | B6: Alegrete | Q6: =Q$5*U6 -> 118346.85 | T6: =T$5*U6 -> 295867.13 | U6: 0.13448506
A7: 150266 | B7: Bagé | C7: 20000 | D7: 0 | E7: 1000 | F7: 0 | G7: 0 | H7: 15000 | I7: 0 | J7: 1500 | K7: 60000 | L7: 3200 | M7: 17000 | N7: 0 | O7: 10000 | P7: 4800 | Q7: =Q$5*U7 -> 147297.79 | T7: =T$5*U7 -> 368244.46 | U7: 0.16738385
A8: 150287 | B8: Caçapava | Q8: =Q$5*U8 -> 63919.901 | T8: =T$5*U8 -> 159799.75 | U8: 0.072636251
A9: 150288 | B9: Dom Pedrito | Q9: =Q$5*U9 -> 77243.401 | T9: =T$5*U9 -> 193108.5 | U9: 0.087776592
A10: 150289 | B10: Itaqui | Q10: =Q$5*U10 -> 105493.46 | T10: =T$5*U10 -> 263733.66 | U10: 0.11987894
A11: 150290 | B11: Jaguarão | Q11: =Q$5*U11 -> 52381.685 | T11: =T$5*U11 -> 130954.21 | U11: 0.059524643
A12: 150291 | B12: Livramento | Q12: =Q$5*U12 -> 50258.529 | T12: =T$5*U12 -> 125646.32 | U12: 0.057111965
A13: 150292 | B13: São Borja | Q13: =Q$5*U13 -> 47198.701 | T13: =T$5*U13 -> 117996.75 | U13: 0.053634888
A14: 150293 | B14: São Gabriel | Q14: =Q$5*U14 -> 66676.92 | T14: =T$5*U14 -> 166692.3 | U14: 0.075769227
A15: 150294 | B15: Uruguaiana | Q15: =Q$5*U15 -> 151182.76 | T15: =T$5*U15 -> 377956.9 | U15: 0.17179859
A16: Total | C16: =SUM(C6:C15) -> 20000 | E16: =SUM(E6:E15) -> 1000 | F16: =SUM(F6:F15) -> 0 | G16: =SUM(G6:G15) -> 0 | H16: =SUM(H6:H15) -> 15000 | I16: =SUM(I6:I15) -> 0 | J16: =SUM(J6:J15) -> 1500 | K16: =SUM(K6:K15) -> 60000 | L16: =SUM(L6:L15) -> 3200 | ... U16: =SUM(U6:U15) -> 1
A17: PTRES 62176 | H17: Fonte 0112
E19: LIMITE MÁXIMO PARA EMPENHO
I20: Prezados: Após a definição dos totais necessários para cada elemento: 1 - enviar email desta planilha 2 - Serão deduzidos todos os atendimentos de nd feitos anteriormente; 3- Após enviaremos a planilha com os dados e valores líquidos.
E21: MATRIZ DE DIARIAS | G21: 1000000
E22: 2014
E23: Alegrete | F23: 0.10272053 | G23: =G21*F23 -> 102720.53
E24: Bagé | F24: 0.1826555 | G24: =G21*F24 -> 182655.5
E25: Caçapava | F25: 0.055134339 | G25: =G21*F25 -> 55134.339
E26: Dom Pedrito | F26: 0.063029076 | G26: =G21*F26 -> 63029.076
E27: Itaqui | F27: 0.090504233 | G27: =G21*F27 -> 90504.233
E28: Jaguarão | F28: 0.079263281 | G28: =G21*F28 -> 79263.281
E29: Livramento | F29: 0.072267206 | G29: =G21*F29 -> 72267.206
E30: São Borja | F30: 0.08189486 | G30: =G21*F30 -> 81894.86
E31: São Gabriel | F31: 0.090320206 | G31: =G21*F31 -> 90320.206
E32: Uruguaiana | F32: 0.18221077 | G32: =G21*F32 -> 182210.77
E33: Total | F33: =SUM(F23:F33) -> 1.00001 | G33: =SUM(G23:G32) -> 1000000

Sheet Empenhos diárias e pedidos cons
A1: CAMPUS | B1: Matriz Custeio Janeiro | C1: Matriz Custeio Fevereiro | D1: Crédito empenhado diárias pessoal civil | E1: Crédito empenhado passagens aéreas | F1: Crédito empenhado diárias col. Eventual | G1: Total pedidos de almoxarifado | H1: Material Segurança | I1: Almoxarifado - Dados Pregão (nº pregões/valores) | M1: Material eletrico | N1: Saldo (Total Disponibilizado na matriz de custeio - (Empenhos + Pedidos)
I2: 089/2010 | J2: 093/2010 | K2: 096/2010 | L2: 107/2010 | M2: 108/2010
A3: ALEGRETE | B3: 15130.03 | C3: 13750 | D3: 5030.03 | E3: 100 | F3: 1000 | G3: =H3+I3+J3+K3+L3+M3 -> 31796.65 | H3: 1130.65 | I3: 2712.7 | J3: 4099.26 | K3: 28.75 | L3: 12193.7 | M3: 11631.59 | N3: =B3+C3-(SUM(D3:G3)) -> -9046.65
A4: BAGÉ | B4: 18750.51 | C4: 17060 | D4: 7925 | E4: 100 | F4: 1704.59 | G4: =H4+I4+J4+K4+L4+M4 -> 45935.33 | H4: 617.01 | I4: 5587.7 | J4: 3395.27 | K4: 486.4 | L4: 20362.55 | M4: 15486.4 | N4: =B4+C4-(SUM(D4:G4)) -> -19854.41
A5: CAÇAPAVA | B5: 6481.4 | C5: 5890 | D5: 3831.4 | E5: 100 | F5: 550 | G5: =H5+I5+J5+K5+L5+M5 -> 19315.39 | H5: 313.22 | I5: 1873.9 | J5: 1758.34 | K5: 186.55 | L5: 9009.75 | M5: 6173.63 | N5: =B5+C5-(SUM(D5:G5)) -> -11425.39
A6: DOM PEDRITO | B6: 9297.76 | C6: 8450 | D6: 3258.57 | E6: 100 | F6: 464.5 | G6: =H6+I6+J6+K6+L6+M6 -> 17201.65 | H6: 684.19 | I6: 1104.1 | J6: 1377.43 | K6: 30.1 | L6: 8434.12 | M6: 5571.71 | N6: =B6+C6-(SUM(D6:G6)) -> -3276.96
A7: ITAQUI | B7: 11487.28 | C7: 10440 | D7: 6687.28 | E7: 100 | F7: 300 | G7: =H7+I7+J7+K7+L7+M7 -> 8810.48 | H7: 256.77 | I7: 873.7 | J7: 1123.73 | K7: 134.1 | L7: 5090.19 | M7: 1331.99 | N7: =B7+C7-(SUM(D7:G7)) -> 6029.52
A8: JAGUARÃO | B8: 6986.44 | C8: 6350 | D8: 2986.44 | E8: 100 | F8: 635.13 | G8: =H8+I8+J8+K8+L8+M8 -> 12967.29 | H8: 153.38 | I8: 1674 | J8: 1765.15 | K8: 46.6 | L8: 6744.85 | M8: 2583.31 | N8: =B8+C8-(SUM(D8:G8)) -> -3352.42
A9: SÃO BORJA | B9: 6193.13 | C9: 5630 | D9: 4000 | E9: 100 | F9: 500 | G9: =H9+I9+J9+K9+L9+M9 -> 10372.57 | H9: 250.79 | I9: 2094.9 | J9: 1122.65 | K9: 17.85 | L9: 3307.38 | M9: 3579 | N9: =B9+C9-(SUM(D9:G9)) -> -3149.44
A10: SÃO GABRIEL | B10: 5988.24 | C10: 5440 | D10: 5674.53 | E10: 100 | F10: 861.32 | G10: =H10+I10+J10+K10+L10+M10 -> 13614.29 | H10: 0 | I10: 1696.1 | J10: 1720.88 | K10: 0 | L10: 7652.67 | M10: 2544.64 | N10: =B10+C10-(SUM(D10:G10)) -> -8821.9
A11: SANTANA DO LIVRAMENTO | B11: 9474.53 | C11: 8610 | D11: 3993.13 | E11: 100 | F11: 400 | G11: =H11+I11+J11+K11+L11+M11 -> 8589.5 | H11: 134.38 | I11: 2104 | J11: 894.37 | K11: 164 | L11: 2828.65 | M11: 2464.1 | N11: =B11+C11-(SUM(D11:G11)) -> 5001.9
A12: URUGUAIANA | B12: 20210.68 | C12: 18380 | D12: 5010.68 | E12: 100 | F12: 1300 | G12: =H12+I12+J12+K12+L12+M12 -> 20041.97 | H12: 0 | I12: 3846.8 | J12: 2704.14 | K12: 411.65 | L12: 9248.16 | M12: 3831.22 | N12: =B12+C12-(SUM(D12:G12)) -> 12138.03
A13: TOTAL | B13: =SUM(B3:B12) -> 110000 | C13: =SUM(C3:C12) -> 100000 | D13: =SUM(D3:D12) -> 48397.06 | E13: =SUM(E3:E12) -> 1000 | F13: =SUM(F3:F12) -> 7715.54 | G13: =SUM(G3:G12) -> 188645.12 | H13: =SUM(H3:H12) -> 3540.39 | I13: =SUM(I3:I12) -> 23567.9 | ... N13: =SUM(N3:N12) -> -35757.72

Sheet Resumo
A1: RESUMO DAS DISTRIBUIÇÕES PROPOSTAS INCLUINDO AS DEDUÇÕES APRESENTADAS NA ABA "MATRIZ E EMPENHOS"
A5: UGR | B5: CAMPUS | C5: ORÇAMENTO CAMPUS
C6: Diárias Pessoal Civil (39014-14) | D6: Diárias Col. Eventual (339036-02) | E6: Diárias Exterior (39014-16) | F6: Passagens Rodoviárias | G6: Passagens Aéreas | H6: Material de Consumo | I6: Material de Consumo - cartão corp. | J6: Serviço Terceiros Pessoa Física | K6: Serviço Terceiros Pessoa Juridica | L6: Serviço Terceiros Pessoa Juridica cartão corp. | M6: TOTAL DISTRIBUIDO PELAS UNIDADES (jan e fev) | N6: TOTAL DISPONÍVEL PARA DISTRIBUIÇÃO
A7: 150286 | B7: Alegrete | C7: =#REF!+#REF!+#REF! -> #REF! | D7: =#REF!+#REF!+#REF! -> #REF! | E7: =#REF!+#REF!+#REF! -> #REF! | F7: =#REF!+#REF!+#REF! -> #REF! | G7: =#REF!+#REF!+#REF! -> #REF! | H7: =#REF!+#REF!+#REF! -> #REF! | I7: =#REF!+#REF!+#REF! -> #REF! | J7: =#REF!+#REF!+#REF! -> #REF! | ... L7: =#REF!+#REF!+#REF! -> #REF! | M7: =SUM(C7:L7) -> #REF! | N7: =(#REF!+#REF!)-Resumo!M7 -> #REF!
A8: 150266 | B8: Bagé | C8: =#REF!+#REF!+#REF! -> #REF! | D8: =#REF!+#REF!+#REF! -> #REF! | E8: =#REF!+#REF!+#REF! -> #REF! | F8: =#REF!+#REF!+#REF! -> #REF! | G8: =#REF!+#REF!+#REF! -> #REF! | H8: =#REF!+#REF!+#REF! -> #REF! | I8: =#REF!+#REF!+#REF! -> #REF! | J8: =#REF!+#REF!+#REF! -> #REF! | ... L8: =#REF!+#REF!+#REF! -> #REF! | M8: =SUM(C8:L8) -> #REF! | N8: =(#REF!+#REF!)-Resumo!M8 -> #REF!
A9: 150287 | B9: Caçapava do Sul | C9: =#REF!+#REF!+#REF! -> #REF! | D9: =#REF!+#REF!+#REF! -> #REF! | E9: =#REF!+#REF!+#REF! -> #REF! | F9: =#REF!+#REF!+#REF! -> #REF! | G9: =#REF!+#REF!+#REF! -> #REF! | H9: =#REF!+#REF!+#REF! -> #REF! | I9: =#REF!+#REF!+#REF! -> #REF! | J9: =#REF!+#REF!+#REF! -> #REF! | ... L9: =#REF!+#REF!+#REF! -> #REF! | M9: =SUM(C9:L9) -> #REF! | N9: =(#REF!+#REF!)-Resumo!M9 -> #REF!
A10: 150288 | B10: Dom Pedrito | C10: =#REF!+#REF!+#REF! -> #REF! | D10: =#REF!+#REF!+#REF! -> #REF! | E10: =#REF!+#REF!+#REF! -> #REF! | F10: =#REF!+#REF!+#REF! -> #REF! | G10: =#REF!+#REF!+#REF! -> #REF! | H10: =#REF!+#REF!+#REF! -> #REF! | I10: =#REF!+#REF!+#REF! -> #REF! | J10: =#REF!+#REF!+#REF! -> #REF! | ... L10: =#REF!+#REF!+#REF! -> #REF! | M10: =SUM(C10:L10) -> #REF! | N10: =(#REF!+#REF!)-Resumo!M10 -> #REF!
A11: 150289 | B11: Itaqui | C11: =#REF!+#REF!+#REF! -> #REF! | D11: =#REF!+#REF!+#REF! -> #REF! | E11: =#REF!+#REF!+#REF! -> #REF! | F11: =#REF!+#REF!+#REF! -> #REF! | G11: =#REF!+#REF!+#REF! -> #REF! | H11: =#REF!+#REF!+#REF! -> #REF! | I11: =#REF!+#REF!+#REF! -> #REF! | J11: =#REF!+#REF!+#REF! -> #REF! | ... L11: =#REF!+#REF!+#REF! -> #REF! | M11: =SUM(C11:L11) -> #REF! | N11: =(#REF!+#REF!)-Resumo!M11 -> #REF!
A12: 150290 | B12: Jaguarão | C12: =#REF!+#REF!+#REF! -> #REF! | D12: =#REF!+#REF!+#REF! -> #REF! | E12: =#REF!+#REF!+#REF! -> #REF! | F12: =#REF!+#REF!+#REF! -> #REF! | G12: =#REF!+#REF!+#REF! -> #REF! | H12: =#REF!+#REF!+#REF! -> #REF! | I12: =#REF!+#REF!+#REF! -> #REF! | J12: =#REF!+#REF!+#REF! -> #REF! | ... L12: =#REF!+#REF!+#REF! -> #REF! | M12: =SUM(C12:L12) -> #REF! | N12: =(#REF!+#REF!)-Resumo!M12 -> #REF!
A13: 150291 | B13: Livramento | C13: =#REF!+#REF!+#REF! -> #REF! | D13: =#REF!+#REF!+#REF! -> #REF! | E13: =#REF!+#REF!+#REF! -> #REF! | F13: =#REF!+#REF!+#REF! -> #REF! | G13: =#REF!+#REF!+#REF! -> #REF! | H13: =#REF!+#REF!+#REF! -> #REF! | I13: =#REF!+#REF!+#REF! -> #REF! | J13: =#REF!+#REF!+#REF! -> #REF! | ... L13: =#REF!+#REF!+#REF! -> #REF! | M13: =SUM(C13:L13) -> #REF! | N13: =(#REF!+#REF!)-Resumo!M13 -> #REF!
A14: 150292 | B14: São Borja | C14: =#REF!+#REF!+#REF! -> #REF! | D14: =#REF!+#REF!+#REF! -> #REF! | E14: =#REF!+#REF!+#REF! -> #REF! | F14: =#REF!+#REF!+#REF! -> #REF! | G14: =#REF!+#REF!+#REF! -> #REF! | H14: =#REF!+#REF!+#REF! -> #REF! | I14: =#REF!+#REF!+#REF! -> #REF! | J14: =#REF!+#REF!+#REF! -> #REF! | ... L14: =#REF!+#REF!+#REF! -> #REF! | M14: =SUM(C14:L14) -> #REF! | N14: =(#REF!+#REF!)-Resumo!M14 -> #REF!
A15: 150293 | B15: São Gabriel | C15: =#REF!+#REF!+#REF! -> #REF! | D15: =#REF!+#REF!+#REF! -> #REF! | E15: =#REF!+#REF!+#REF! -> #REF! | F15: =#REF!+#REF!+#REF! -> #REF! | G15: =#REF!+#REF!+#REF! -> #REF! | H15: =#REF!+#REF!+#REF! -> #REF! | I15: =#REF!+#REF!+#REF! -> #REF! | J15: =#REF!+#REF!+#REF! -> #REF! | ... L15: =#REF!+#REF!+#REF! -> #REF! | M15: =SUM(C15:L15) -> #REF! | N15: =(#REF!+#REF!)-Resumo!M15 -> #REF!
A16: 150294 | B16: Uruguaiana | C16: =#REF!+#REF!+#REF! -> #REF! | D16: =#REF!+#REF!+#REF! -> #REF! | E16: =#REF!+#REF!+#REF! -> #REF! | F16: =#REF!+#REF!+#REF! -> #REF! | G16: =#REF!+#REF!+#REF! -> #REF! | H16: =#REF!+#REF!+#REF! -> #REF! | I16: =#REF!+#REF!+#REF! -> #REF! | J16: =#REF!+#REF!+#REF! -> #REF! | ... L16: =#REF!+#REF!+#REF! -> #REF! | M16: =SUM(C16:L16) -> #REF! | N16: =(#REF!+#REF!)-Resumo!M16 -> #REF!
A17: TOTAIS | M17: =SUM(M7:M16) -> #REF! | N17: =SUM(N7:N16) -> #REF!

Sheet mc
A1: UNIVERSIDADE FEDERAL DO PAMPA
A2: Divisão de Orçamento
A3: Matriz de Custeio Campus 2014 - considerando limites máximos de cada parcela
A4: UGR | B4: CAMPUS | C4: Fevereiro | D4: Maio | E4: Setembro | F4: Total | G4: total
A5: PI | C5: 880000 | F5: 2200000
A6: 150286 | B6: Alegrete | C6: =C$5*G6 -> 118346.85 | D6: =F6-(C6+E6) -> 133140.21 | E6: =F6*0.15 -> 44380.07 | F6: =F$5*G6 -> 295867.13 | G6: 0.13448506
A7: 150266 | B7: Bagé | C7: =C$5*G7 -> 147297.79 | D7: =F7-(C7+E7) -> 165710.01 | E7: =F7*0.15 -> 55236.67 | F7: =F$5*G7 -> 368244.46 | G7: 0.16738385
A8: 150287 | B8: Caçapava | C8: =C$5*G8 -> 63919.901 | D8: =F8-(C8+E8) -> 71909.888 | E8: =F8*0.15 -> 23969.963 | F8: =F$5*G8 -> 159799.75 | G8: 0.072636251
A9: 150288 | B9: Dom Pedrito | C9: =C$5*G9 -> 77243.401 | D9: =F9-(C9+E9) -> 86898.826 | E9: =F9*0.15 -> 28966.275 | F9: =F$5*G9 -> 193108.5 | G9: 0.087776592
A10: 150289 | B10: Itaqui | C10: =C$5*G10 -> 105493.46 | D10: =F10-(C10+E10) -> 118680.15 | E10: =F10*0.15 -> 39560.049 | F10: =F$5*G10 -> 263733.66 | G10: 0.11987894
A11: 150290 | B11: Jaguarão | C11: =C$5*G11 -> 52381.685 | D11: =F11-(C11+E11) -> 58929.396 | E11: =F11*0.15 -> 19643.132 | F11: =F$5*G11 -> 130954.21 | G11: 0.059524643
A12: 150291 | B12: Livramento | C12: =C$5*G12 -> 50258.529 | D12: =F12-(C12+E12) -> 56540.846 | E12: =F12*0.15 -> 18846.949 | F12: =F$5*G12 -> 125646.32 | G12: 0.057111965
A13: 150292 | B13: São Borja | C13: =C$5*G13 -> 47198.701 | D13: =F13-(C13+E13) -> 53098.539 | E13: =F13*0.15 -> 17699.513 | F13: =F$5*G13 -> 117996.75 | G13: 0.053634888
A14: 150293 | B14: São Gabriel | C14: =C$5*G14 -> 66676.92 | D14: =F14-(C14+E14) -> 75011.535 | E14: =F14*0.15 -> 25003.845 | F14: =F$5*G14 -> 166692.3 | G14: 0.075769227
A15: 150294 | B15: Uruguaiana | C15: =C$5*G15 -> 151182.76 | D15: =F15-(C15+E15) -> 170080.6 | E15: =F15*0.15 -> 56693.535 | F15: =F$5*G15 -> 377956.9 | G15: 0.17179859
A16: Total | C16: =SUM(C6:C15) -> 880000 | D16: =SUM(D6:D15) -> 990000 | E16: =SUM(E6:E15) -> 330000 | F16: =SUM(F6:F15) -> 2200000 | G16: =SUM(G6:G15) -> 1
A17: PTRES 62176
F18: RESPEITAR LIMITES MÁXIMOS PARA CADA PARCELA DA MC
A19: RESPEITAR OS LIMITES MÍNIMOS:
A20: Diárias e Passagens - limite de liquidação mínimo 75%
A21: Demais elementos da matriz de custeio - limite de empenho mínimo 75%
A23: RESPEITAR OS LIMITES MÁXIMOS PARA DIÁRIAS E PASSAGENS
A24: Alegrete | B24: 102720.53
A25: Bagé | B25: 182655.5
A26: Caçapava | B26: 55134.339
A27: Dom Pedrito | B27: 63029.076
A28: Itaqui | B28: 90504.233
A29: Jaguarão | B29: 79263.281
A30: Livramento | B30: 72267.206
A31: São Borja | B31: 81894.86
A32: São Gabriel | B32: 90320.206
A33: Uruguaiana | B33: 182210.77
B34: =SUM(B24:B33) -> 1000000

Sheet diárias
E2: LIMITE MÁXIMO PARA EMPENHO
E4: MATRIZ DE DIARIAS | G4: 1000000
E5: 2014
E6: Alegrete | F6: 0.10272053 | G6: =G4*F6 -> 102720.53
E7: Bagé | F7: 0.1826555 | G7: =G4*F7 -> 182655.5
E8: Caçapava | F8: 0.055134339 | G8: =G4*F8 -> 55134.339
E9: Dom Pedrito | F9: 0.063029076 | G9: =G4*F9 -> 63029.076
E10: Itaqui | F10: 0.090504233 | G10: =G4*F10 -> 90504.233
E11: Jaguarão | F11: 0.079263281 | G11: =G4*F11 -> 79263.281
E12: Livramento | F12: 0.072267206 | G12: =G4*F12 -> 72267.206
E13: São Borja | F13: 0.08189486 | G13: =G4*F13 -> 81894.86
E14: São Gabriel | F14: 0.090320206 | G14: =G4*F14 -> 90320.206
E15: Uruguaiana | F15: 0.18221077 | G15: =G4*F15 -> 182210.77
E16: Total | F16: =SUM(F6:F16) -> 1.00001 | G16: =SUM(G6:G15) -> 1000000
