Workbook

Sheet Plan1
A1: Nº PED | B1: SOLICITANTE | C1: MODALIDADE | D1: ELEMENTO DESPESA | E1: CÓD. COMPRASNET | F1: CURSO/SETOR | G1: QUANT. MÍNIMA | H1: QUANT. MÁXIMA | I1: UNID. | J1: DESCRIÇÃO | K1: VLR. UNIT. | L1: VLR. TOTAL QUANT. MÍNIMA | M1: VLR. TOTAL QUANT. MÁXIMA | N1: PREGÃO | O1: DATA ABERTURA | P1: ITEM PREGÃO | Q1: DATA HOMOLOG | R1: EMPRESA VENCEDORA | S1: VALOR UNIT. LICITADO | T1: VALOR TOTAL LICITADO QUANT. MÁXIMA | U1: Nº EMPENHO | V1: QTDE EMPENHADA | W1: VALOR EMP. | X1: SITUAÇÃO | Y1: DATA ENTREGA MERCAD | Z1: Nº NOTA FISCAL | AA1: SALDO QTDE | AB1: QTDE A COMPRAR | AC1: VALOR TOTAL
A2: 01/2013 | B2: RENATA PINHO | C2: DL | D2: 3.3.3.9.0.39.17 | E2: 24805 | F2: AGRO | G2: 1 | H2: 1 | I2: Un. | J2: Serviço de Ajuste e Montagem de Peças e Produtos, sendo os seguintes serviços: 01) Recuperação da estrutura de 02(dois) Viveiros com retirada da tela antiga e reposição da tela e tirantes de aço; 02) Recuperação da estrutura de 01 (uma) Estufa Agrícola com retirada e reposição de novo filme de polietileno; 03) Recuperação da estrutura da 01 (uma) Casa de Vegetação sendo retirada e instalação de novo filme de polietileno. | K2: 32064 | L2: =G2*K2 -> 32064 | M2: =H2*K2 -> 32064 | N2: Ñ APLIC | O2: Ñ APLIC | P2: Ñ APLIC | Q2: Ñ APLIC | R2: PEDIDO ANULADO
A3: 02/2013 | B3: CIRO LOPES | C3: DL | D3: 3.3.3.9.0.39.01 | E3: 23108 | F3: ADMIN | G3: 1 | H3: 1 | I3: Un. | J3: Serviço de Assinatura de acesso a banco de dados, boletim/informativo de licitações e contratos pelo período de 01 (um) ano. Campus Itaqui-RS. | K3: 7990 | L3: =G3*K3 -> 7990 | M3: =H3*K3 -> 7990 | N3: Ñ APLIC | O3: Ñ APLIC | P3: Ñ APLIC | Q3: Ñ APLIC | R3: N. P. EVENTOS E SERVIÇOS LTDA | S3: 7790 | T3: =S3*H3 -> 7790 | U3: 2013NE800519 | V3: 1 | W3: =V3*S3 -> 7790
A4: 03/2013 | B4: LUIS JUNIOR | C4: PE-SRP | D4: 3.3.3.9.0.30.24 | E4: 233636 | F4: ADMIN | G4: 1 | H4: 50 | I4: Saco | J4: Cimento Portland, material pozolânico, tipo CP-IV 32, conforme descrição em Anexo. | K4: 22.33 | L4: =G4*K4 -> 22.33 | M4: =H4*K4 -> 1116.5 | N4: 10-2013 | O4: 41459 | P4: 4 | Q4: 41477 | R4: COMERCIAL A. L. D. LTDA - ME | S4: 22.33 | T4: =H4*S4 -> 1116.5 | U4: 2014NE800665 | V4: 50 | W4: =V4*S4 -> 1116.5 | X4: ENTREGUE | Y4: 41877 | Z4: 3344 | AA4: =H4-V4 -> 0 | AB4: 50 | AC4: =AB4*S4 -> 1116.5
A5: 03/2013 | B5: LUIS JUNIOR | C5: PE-SRP | D5: 3.3.3.9.0.30.24 | E5: 16365 | F5: ADMIN | G5: 1 | H5: 50 | I5: m³ | J5: Pedra britada, conforme descrição em Anexo. | K5: 78.33 | L5: =G5*K5 -> 78.33 | M5: =H5*K5 -> 3916.5 | N5: 10-2013 | O5: 41459 | P5: 5 | Q5: 41477 | R5: HERBERTS & SCHUH LTDA | S5: 85 | T5: =H5*S5 -> 4250 | U5: 2014NE800666 | V5: 50 | W5: =V5*S5 -> 4250 | X5: ENTREGUE | Y5: 41869 | Z5: 632 | AA5: =H5-V5 -> 0 | AB5: 50 | AC5: =AB5*S5 -> 4250
A6: 03/2013 | B6: LUIS JUNIOR | C6: PE-SRP | D6: 3.3.3.9.0.30.24 | E6: 216953 | F6: ADMIN | G6: 1 | H6: 50 | I6: m³ | J6: Areia, conforme descrição em Anexo. | K6: 69.33 | L6: =G6*K6 -> 69.33 | M6: =H6*K6 -> 3466.5 | N6: 10-2013 | O6: 41459 | P6: 6 | Q6: 41477 | R6: HERBERTS & SCHUH LTDA | S6: 76.1 | T6: =H6*S6 -> 3805 | U6: 2014NE800666 | V6: 50 | W6: =V6*S6 -> 3805 | X6: ENTREGUE | Y6: 41869 | Z6: 633 | AA6: =H6-V6 -> 0 | AB6: 50 | AC6: =AB6*S6 -> 3805
A7: 03/2013 | B7: LUIS JUNIOR | C7: PE-SRP | D7: 3.3.3.9.0.30.24 | E7: 150803 | F7: ADMIN | G7: 1 | H7: 30 | I7: Un. | J7: Aditivo líquido para argamassa e reboco (substituto do cal) , conforme descrição em Anexo. | K7: 3.67 | L7: =G7*K7 -> 3.67 | M7: =H7*K7 -> 110.1 | N7: 10-2013 | O7: 41459 | P7: 7 | Q7: 41477 | R7: HERBERTS & SCHUH LTDA | S7: 2.5 | T7: =H7*S7 -> 75 | W7: =V7*S7 -> 0 | AA7: =H7-V7 -> 30 | AC7: =AB7*S7 -> 0
A8: 03/2013 | B8: LUIS JUNIOR | C8: PE-SRP | D8: 3.3.3.9.0.30.24 | E8: 30724 | F8: ADMIN | G8: 1 | H8: 10 | I8: Galão | J8: Tinta esmalte sintético na cor bege, galão de 3600 ml, conforme descrição em Anexo. | K8: 55.68 | L8: =G8*K8 -> 55.68 | M8: =H8*K8 -> 556.8 | N8: 10-2013 | O8: 41459 | P8: 8 | Q8: 41477 | R8: HERBERTS & SCHUH LTDA | S8: 45 | T8: =H8*S8 -> 450 | U8: 2014NE800422 | V8: 4 | W8: =V8*S8 -> 180 | X8: ENTREGUE | Y8: 41800 | Z8: 502 | AA8: =H8-V8 -> 6 | AB8: 2 | AC8: =AB8*S8 -> 90
J9: Tinta esmalte sintético na cor bege, galão de 3600 ml, conforme descrição em Anexo. | K9: 55.68 | L9: =G9*K9 -> 0 | M9: =H9*K9 -> 0 | N9: 10-2013 | O9: 41459 | P9: 8 | Q9: 41477 | R9: HERBERTS & SCHUH LTDA | S9: 45 | T9: =H9*S9 -> 0 | U9: 2014NE800666 | V9: 2 | W9: =V9*S9 -> 90 | X9: ENTREGUE | Y9: 41869 | Z9: 501
A10: 03/2013 | B10: LUIS JUNIOR | C10: PE-SRP | D10: 3.3.3.9.0.30.24 | E10: 30724 | F10: ADMIN | G10: 1 | H10: 5 | I10: Galão | J10: Tinta esmalte sintético na cor cinza claro, galão de 3600 ml, conforme descrição em Anexo. | K10: 39.43 | L10: =G10*K10 -> 39.43 | M10: =H10*K10 -> 197.15 | N10: 10-2013 | O10: 41459 | P10: 9 | Q10: 41477 | R10: HERBERTS & SCHUH LTDA | S10: 39.43 | T10: =H10*S10 -> 197.15 | U10: 2014NE800422 | V10: 2 | W10: =V10*S10 -> 78.86 | X10: ENTREGUE | Y10: 41800 | Z10: 502 | AA10: =H10-V10 -> 3 | AC10: =AB10*S10 -> 0
A11: 03/2013 | B11: LUIS JUNIOR | C11: PE-SRP | D11: 3.3.3.9.0.30.24 | E11: 30724 | F11: ADMIN | G11: 1 | H11: 10 | I11: Galão | J11: Tinta esmalte sintético na cor marrom, galão de 3600 ml, conforme descrição em Anexo. | K11: 37.1 | L11: =G11*K11 -> 37.1 | M11: =H11*K11 -> 371 | N11: 10-2013 | O11: 41459 | P11: 10 | Q11: 41477 | R11: ITEM CANCELADO: VALOR ABAIXO DO MERCADO | T11: =H11*S11 -> 0 | W11: =V11*S11 -> 0 | AA11: 0 | AC11: =AB11*S11 -> 0
A12: 03/2013 | B12: LUIS JUNIOR | C12: PE-SRP | D12: 3.3.3.9.0.30.24 | E12: 30678 | F12: ADMIN | G12: 1 | H12: 10 | I12: Lata | J12: Solvente para tinta, tipo aguarrás, lata de 1 litro, conforme descrição em Anexo. | K12: 8.89 | L12: =G12*K12 -> 8.89 | M12: =H12*K12 -> 88.9 | N12: 10-2013 | O12: 41459 | P12: 11 | Q12: 41477 | R12: HERBERTS & SCHUH LTDA | S12: 7 | T12: =H12*S12 -> 70 | U12: 2014NE800422 | V12: 2 | W12: =V12*S12 -> 14 | X12: ENTREGUE | Y12: 41800 | Z12: 502 | AA12: =H12-V12 -> 8 | AB12: 2 | AC12: =AB12*S12 -> 14
J13: Solvente para tinta, tipo aguarrás, lata de 1 litro, conforme descrição em Anexo. | K13: 8.89 | L13: =G13*K13 -> 0 | M13: =H13*K13 -> 0 | N13: 10-2013 | O13: 41459 | P13: 11 | Q13: 41477 | R13: HERBERTS & SCHUH LTDA | S13: 7 | T13: =H13*S13 -> 0 | U13: 2014NE800666 | V13: 2 | W13: =V13*S13 -> 14 | X13: ENTREGUE | Y13: 41869 | Z13: 501
A14: 03/2013 | B14: LUIS JUNIOR | C14: PE-SRP | D14: 3.3.3.9.0.30.24 | E14: 111368 | F14: ADMIN | G14: 1 | H14: 20 | I14: Balde | J14: Tinta acrílica fosca, cor branca, balde de 18 litros, conforme descrição em Anexo. | K14: 215.03 | L14: =G14*K14 -> 215.03 | M14: =H14*K14 -> 4300.6 | N14: 10-2013 | O14: 41459 | P14: 12 | Q14: 41477 | R14: HERBERTS & SCHUH LTDA | S14: 185 | T14: =H14*S14 -> 3700 | U14: 2014NE800422 | V14: 2 | W14: =V14*S14 -> 370 | X14: ENTREGUE | Y14: 41800 | Z14: 502 | AA14: =H14-V14 -> 18 | AB14: 2 | AC14: =AB14*S14 -> 370
J15: Tinta acrílica fosca, cor branca, balde de 18 litros, conforme descrição em Anexo. | K15: 215.03 | L15: =G15*K15 -> 0 | M15: =H15*K15 -> 0 | N15: 10-2013 | O15: 41459 | P15: 12 | Q15: 41477 | R15: HERBERTS & SCHUH LTDA | S15: 185 | T15: =H15*S15 -> 0 | U15: 2014NE800666 | V15: 2 | W15: =V15*S15 -> 370 | X15: ENTREGUE | Y15: 41869 | Z15: 501
A16: 03/2013 | B16: LUIS JUNIOR | C16: PE-SRP | D16: 3.3.3.9.0.30.24 | E16: 30848 | F16: ADMIN | G16: 1 | H16: 10 | I16: Unid. | J16: Broxa para pintura formato da base retangular, tamanho grande, conforme descrição em Anexo. | K16: 3.3 | L16: =G16*K16 -> 3.3 | M16: =H16*K16 -> 33 | N16: 10-2013 | O16: 41459 | P16: 13 | Q16: 41477 | R16: J. J. VITALLI - ME | S16: 1.65 | T16: =H16*S16 -> 16.5 | U16: 2014NE800424 | V16: 2 | W16: =V16*S16 -> 3.3 | X16: ENTREGUE | Y16: 41754 | Z16: 7221 | AA16: =H16-V16 -> 8 | AC16: =AB16*S16 -> 0
A17: 03/2013 | B17: LUIS JUNIOR | C17: PE-SRP | D17: 3.3.3.9.0.30.24 | E17: 57525 | F17: ADMIN | G17: 1 | H17: 10 | I17: Unid. | J17: Pincel de pintura predial bitola 1” (uma polegada) , conforme descrição em Anexo. | K17: 0.89 | L17: =G17*K17 -> 0.89 | M17: =H17*K17 -> 8.9 | N17: 10-2013 | O17: 41459 | P17: 14 | Q17: 41477 | R17: C. E. MACEDO E CIA LTDA - ME | S17: 0.89 | T17: =H17*S17 -> 8.9 | U17: 2014NE800427 | V17: 4 | W17: =V17*S17 -> 3.56 | X17: ENTREGUE | Y17: 41764 | Z17: 3037 | AA17: =H17-V17 -> 6 | AC17: =AB17*S17 -> 0
A18: 03/2013 | B18: LUIS JUNIOR | C18: PE-SRP | D18: 3.3.3.9.0.30.24 | E18: 57525 | F18: ADMIN | G18: 1 | H18: 10 | I18: Unid. | J18: Pincel de pintura predial bitola 2” (duas polegadas) , conforme descrição em Anexo. | K18: 1.6 | L18: =G18*K18 -> 1.6 | M18: =H18*K18 -> 16 | N18: 10-2013 | O18: 41459 | P18: 15 | Q18: 41477 | R18: C. E. MACEDO E CIA LTDA - ME | S18: 1.6 | T18: =H18*S18 -> 16 | U18: 2014NE800427 | V18: 4 | W18: =V18*S18 -> 6.4 | X18: ENTREGUE | Y18: 41764 | Z18: 3037 | AA18: =H18-V18 -> 6 | AC18: =AB18*S18 -> 0
A19: 03/2013 | B19: LUIS JUNIOR | C19: PE-SRP | D19: 3.3.3.9.0.30.24 | E19: 30791 | F19: ADMIN | G19: 1 | H19: 10 | I19: Unid. | J19: Rolo de espuma para pintura predial largura 5 cm, conforme descrição em Anexo. | K19: 1.56 | L19: =G19*K19 -> 1.56 | M19: =H19*K19 -> 15.6 | N19: 10-2013 | O19: 41459 | P19: 16 | Q19: 41477 | R19: J. J. VITALLI - ME | S19: 0.77 | T19: =H19*S19 -> 7.7 | U19: 2014NE800424 | V19: 4 | W19: =V19*S19 -> 3.08 | X19: ENTREGUE | Y19: 41754 | Z19: 7221 | AA19: =H19-V19 -> 6 | AB19: 6 | AC19: =AB19*S19 -> 4.62
J20: Rolo de espuma para pintura predial largura 5 cm, conforme descrição em Anexo. | N20: 10-2013 | O20: 41459 | P20: 16 | Q20: 41477 | R20: J. J. VITALLI - ME | U20: 2014NE800667 | V20: 6 | W20: =V20*S19 -> 4.62 | X20: ENTREGUE | Y20: 41815 | Z20: 7640
A21: 03/2013 | B21: LUIS JUNIOR | C21: PE-SRP | D21: 3.3.3.9.0.30.24 | E21: 30791 | F21: ADMIN | G21: 1 | H21: 10 | I21: Unid. | J21: Rolo de espuma para pintura predial largura 15 cm, conforme descrição em Anexo. | K21: 2.2 | L21: =G21*K21 -> 2.2 | M21: =H21*K21 -> 22 | N21: 10-2013 | O21: 41459 | P21: 17 | Q21: 41477 | R21: CENTER SPONCHIADO LTDA - EPP | S21: 1.4 | T21: =H21*S21 -> 14 | U21: 2014NE800668 | V21: 10 | W21: =V21*S21 -> 14 | X21: ENTREGUE | Y21: 41869 | Z21: 7200 | AA21: =H21-V21 -> 0 | AB21: 10 | AC21: =AB21*S21 -> 14
A22: 03/2013 | B22: LUIS JUNIOR | C22: PE-SRP | D22: 3.3.3.9.0.30.24 | E22: 30791 | F22: ADMIN | G22: 1 | H22: 10 | I22: Unid. | J22: Rolo de lã de carneiro para pintura predial largura 9 cm, conforme descrição em Anexo. | K22: 2.38 | L22: =G22*K22 -> 2.38 | M22: =H22*K22 -> 23.8 | N22: 10-2013 | O22: 41459 | P22: 18 | Q22: 41477 | R22: C. E. MACEDO E CIA LTDA - ME | S22: 2.15 | T22: =H22*S22 -> 21.5 | U22: 2014NE800427 | V22: 4 | W22: =V22*S22 -> 8.6 | X22: ENTREGUE | Y22: 41764 | Z22: 3037 | AA22: =H22-V22 -> 6 | AB22: 4 | AC22: =AB22*S22 -> 8.6
J23: Rolo de lã de carneiro para pintura predial largura 9 cm, conforme descrição em Anexo. | K23: 2.38 | L23: =G23*K23 -> 0 | M23: =H23*K23 -> 0 | N23: 10-2013 | O23: 41459 | P23: 18 | Q23: 41477 | R23: C. E. MACEDO E CIA LTDA - ME | S23: 2.15 | T23: =H23*S23 -> 0 | U23: 2014NE800669 | V23: 4 | W23: =V23*S23 -> 8.6 | X23: ENTREGUE | Y23: 41810 | Z23: 3116
A24: 03/2013 | B24: LUIS JUNIOR | C24: PE-SRP | D24: 3.3.3.9.0.30.24 | E24: 150941 | F24: ADMIN | G24: 10 | H24: 100 | I24: Unid. | J24: Lixa para massa, tipo grão 80, conforme descrição em Anexo. | K24: 0.65 | L24: =G24*K24 -> 6.5 | M24: =H24*K24 -> 65 | N24: 10-2013 | O24: 41459 | P24: 19 | Q24: 41477 | R24: CENTER SPONCHIADO LTDA - EPP | S24: 0.4 | T24: =H24*S24 -> 40 | U24: 2014NE800432 | V24: 40 | W24: =V24*S24 -> 16 | X24: ENTREGUE | Y24: 41764 | Z24: 6782 | AA24: =H24-V24 -> 60 | AC24: =AB24*S24 -> 0
A25: 03/2013 | B25: LUIS JUNIOR | C25: PE-SRP | D25: 3.3.3.9.0.30.24 | E25: 150941 | F25: ADMIN | G25: 10 | H25: 100 | I25: Unid. | J25: Lixa para massa, tipo grão 120, conforme descrição em Anexo. | K25: 0.47 | L25: =G25*K25 -> 4.7 | M25: =H25*K25 -> 47 | N25: 10-2013 | O25: 41459 | P25: 20 | Q25: 41477 | R25: J. J. VITALLI - ME | S25: 0.3 | T25: =H25*S25 -> 30 | U25: 2014NE800424 | V25: 40 | W25: =V25*S25 -> 12 | X25: ENTREGUE | Y25: 41754 | Z25: 7221 | AA25: =H25-V25 -> 60 | AC25: =AB25*S25 -> 0
A26: 03/2013 | B26: LUIS JUNIOR | C26: PE-SRP | D26: 3.3.3.9.0.30.24 | E26: 150941 | F26: ADMIN | G26: 10 | H26: 100 | I26: Unid. | J26: Lixa para massa, tipo grão 180, conforme descrição em Anexo. | K26: 0.48 | L26: =G26*K26 -> 4.8 | M26: =H26*K26 -> 48 | N26: 10-2013 | O26: 41459 | P26: 21 | Q26: 41477 | R26: J. J. VITALLI - ME | S26: 0.3 | T26: =H26*S26 -> 30 | U26: 2014NE800424 | V26: 40 | W26: =V26*S26 -> 12 | X26: ENTREGUE | Y26: 41754 | Z26: 7221 | AA26: =H26-V26 -> 60 | AC26: =AB26*S26 -> 0
A27: 03/2013 | B27: LUIS JUNIOR | C27: PE-SRP | D27: 3.3.3.9.0.30.24 | E27: 150739 | F27: ADMIN | G27: 1 | H27: 20 | I27: Saco | J27: Argamassa colante industrializada, flexível, tipo AC II, conforme descrição em Anexo. | K27: 21.87 | L27: =G27*K27 -> 21.87 | M27: =H27*K27 -> 437.4 | N27: 10-2013 | O27: 41459 | P27: 22 | Q27: 41477 | R27: HERBERTS & SCHUH LTDA | S27: 19.9 | T27: =H27*S27 -> 398 | W27: =V27*S27 -> 0 | AA27: =H27-V27 -> 20 | AC27: =AB27*S27 -> 0
A28: 03/2013 | B28: LUIS JUNIOR | C28: PE-SRP | D28: 3.3.3.9.0.30.24 | E28: 150739 | F28: ADMIN | G28: 1 | H28: 20 | I28: Saco | J28: Argamassa pronta para reboco industrializada, conforme descrição em Anexo. | K28: 8.38 | L28: =G28*K28 -> 8.38 | M28: =H28*K28 -> 167.6 | N28: 10-2013 | O28: 41459 | P28: 23 | Q28: 41477 | R28: COMERCIAL A. L. D. LTDA - ME | S28: 8.38 | T28: =H28*S28 -> 167.6 | W28: =V28*S28 -> 0 | AA28: =H28-V28 -> 20 | AC28: =AB28*S28 -> 0
A29: 03/2013 | B29: LUIS JUNIOR | C29: PE-SRP | D29: 3.3.3.9.0.30.24 | E29: 150455 | F29: ADMIN | G29: 1 | H29: 30 | I29: Unid. | J29: Dispenser para papel higiênico, conforme descrição em Anexo. | K29: 14 | L29: =G29*K29 -> 14 | M29: =H29*K29 -> 420 | N29: 10-2013 | O29: 41459 | P29: 24 | Q29: 41477 | R29: HERBERTS & SCHUH LTDA | S29: 12 | T29: =H29*S29 -> 360 | W29: =V29*S29 -> 0 | AA29: =H29-V29 -> 30 | AC29: =AB29*S29 -> 0
A30: 04/2013 | B30: LUIS JUNIOR | C30: PE-SRP | D30: 3.3.3.9.0.30.16 | E30: 278851 | F30: ADMIN | G30: 1 | H30: 40 | I30: Unid. | J30: Prancheta portátil, conforme descrição em Anexo. | K30: 4.77 | L30: =G30*K30 -> 4.77 | M30: =H30*K30 -> 190.8 | N30: 14-2013 | O30: 41501 | P30: 7 | Q30: 41520 | R30: RF COMERCIO DE TINTAS LTDA - ME | S30: 4.76 | T30: =H30*S30 -> 190.4 | U30: 2013NE801832 | V30: 40 | W30: =V30*S30 -> 190.4 | AA30: =H30-V30 -> 0 | AC30: =AB30*S30 -> 0
A31: 04/2013 | B31: LUIS JUNIOR | C31: PE-SRP | D31: 3.3.3.9.0.30.16 | E31: 382257 | F31: ADMIN | G31: 1 | H31: 200 | I31: Unid. | J31: Grampeador, conforme descrição em Anexo. | K31: 15.35 | L31: =G31*K31 -> 15.35 | M31: =H31*K31 -> 3070 | N31: 14-2013 | O31: 41501 | P31: 8 | Q31: 41520 | R31: TAVI PAPELARIA MATERIAIS DE ESCRITORIO E INFORMATICA LT | S31: 11.76 | T31: =H31*S31 -> 2352 | U31: 2013NE801833 | V31: 50 | W31: =V31*S31 -> 588 | X31: ENTREGUE | Y31: 41585 | Z31: 5917 | AA31: =H31-V31 -> 150 | AB31: 50 | AC31: =AB31*S31 -> 588
A32: 04/2013 | B32: LUIS JUNIOR | C32: PE-SRP | D32: 3.3.3.9.0.30.16 | E32: 150505 | F32: ADMIN | G32: 1 | H32: 2000 | I32: Unid. | J32: Arquivo escritório, tipo Pasta Suspensa, conforme descrição em Anexo. | K32: 1 | L32: =G32*K32 -> 1 | M32: =H32*K32 -> 2000 | N32: 14-2013 | O32: 41501 | P32: 9 | Q32: 41520 | R32: RF COMERCIO DE TINTAS LTDA - ME | S32: 0.99 | T32: =H32*S32 -> 1980 | U32: 2013NE801832 | V32: 1000 | W32: =V32*S32 -> 990 | X32: ENTREGUE | Y32: 41662 | Z32: 38 | AA32: =H32-V32 -> 1000 | AC32: =AB32*S32 -> 0
A33: 04/2013 | B33: LUIS JUNIOR | C33: PE-SRP | D33: 3.3.3.9.0.30.16 | E33: 150505 | F33: ADMIN | G33: 1 | H33: 500 | I33: Unid. | J33: Arquivo escritório, tipo Caixa Arquivo-Morto, conforme descrição em Anexo. | K33: 2.03 | L33: =G33*K33 -> 2.03 | M33: =H33*K33 -> 1015 | N33: 14-2013 | O33: 41501 | P33: 10 | Q33: 41520 | R33: RF COMERCIO DE TINTAS LTDA - ME | S33: 2.02 | T33: =H33*S33 -> 1010 | U33: 2014NE800429 | V33: 100 | W33: =V33*S33 -> 202 | AA33: =H33-V33 -> 400 | AB33: 100 | AC33: =AB33*S33 -> 202
J34: Grampeador, conforme descrição em Anexo. | K34: 15.35 | L34: =G34*K34 -> 0 | M34: =H34*K34 -> 0 | N34: 14-2013 | O34: 41501 | P34: 8 | Q34: 41520 | R34: TAVI PAPELARIA MATERIAIS DE ESCRITORIO E INFORMATICA LT | S34: 11.76 | T34: =H34*S34 -> 0 | U34: 2014NE800670 | V34: 50 | W34: =V34*S34 -> 588 | X34: ENTREGUE | Y34: 41813 | Z34: 8075
A35: 04/2013 | B35: LUIS JUNIOR | C35: PE-SRP | D35: 3.3.3.9.0.30.16 | E35: 281981 | F35: ADMIN | G35: 1 | H35: 300 | I35: Unid. | J35: Pasta arquivo, material papelão revestido de PVC, tipo catálogo, conforme descrição em Anexo. | K35: 13.33 | L35: =G35*K35 -> 13.33 | M35: =H35*K35 -> 3999 | N35: 14-2013 | O35: 41501 | P35: 11 | Q35: 41520 | R35: TAVI PAPELARIA MATERIAIS DE ESCRITORIO E INFORMATICA LT | S35: 12.45 | T35: =H35*S35 -> 3735 | U35: 2014NE800428 | V35: 200 | W35: =V35*S35 -> 2490 | X35: ENTREGUE | Y35: 41813 | Z35: 8074 | AA35: =H35-V35 -> 100 | AC35: =AB35*S35 -> 0
A36: 04/2013 | B36: LUIS JUNIOR | C36: PE-SRP | D36: 3.3.3.9.0.30.16 | E36: 33189 | F36: ADMIN | G36: 1 | H36: 100 | I36: Unid. | J36: Régua comum, material acrílico transparente, comprimento 30 cm, conforme descrição em Anexo. | K36: 0.49 | L36: =G36*K36 -> 0.49 | M36: =H36*K36 -> 49 | N36: 14-2013 | O36: 41501 | P36: 12 | Q36: 41520 | R36: G. DE OLIVEIRA E CIA LTDA - EPP | S36: 0.4 | T36: =H36*S36 -> 40 | U36: 2013NE801834 | V36: 100 | W36: =V36*S36 -> 40 | X36: ENTREGUE | Y36: 41576 | Z36: 3395 | AA36: =H36-V36 -> 0 | AC36: =AB36*S36 -> 0
A37: 04/2013 | B37: LUIS JUNIOR | C37: PE-SRP | H37: 200 | I37: Unid. | J37: Régua comum, material acrílico transparente, comprimento 30 cm, conforme descrição em Anexo. | N37: 14-2013 | O37: 41501 | P37: 12 | Q37: 41520 | R37: G. DE OLIVEIRA E CIA LTDA - EPP | S37: 0.4 | T37: =H37*S37 -> 80 | U37: 2014NE800430 | V37: 200 | W37: =V37*S37 -> 80 | X37: ENTREGUE | Y37: 41814 | Z37: 4427
A38: 04/2013 | B38: LUIS JUNIOR | C38: PE-SRP | D38: 3.3.3.9.0.30.16 | E38: 33189 | F38: ADMIN | G38: 1 | H38: 300 | I38: Unid. | J38: Régua comum, material acrílico transparente, comprimento 50 cm, conforme descrição em Anexo. | K38: 1.1 | L38: =G38*K38 -> 1.1 | M38: =H38*K38 -> 330 | N38: 14-2013 | O38: 41501 | P38: 13 | Q38: 41520 | R38: ITEM CANCELADO: VALORES ACIMA DA MÉDIA | T38: =H38*S38 -> 0 | V38: 0 | W38: =V38*S38 -> 0 | AA38: 0 | AC38: =AB38*S38 -> 0
A39: 04/2013 | B39: LUIS JUNIOR | C39: PE-SRP | D39: 3.3.3.9.0.30.16 | E39: 304451 | F39: ADMIN | G39: 1 | H39: 150 | I39: Unid. | J39: Tesoura, conforme descrição em Anexo. | K39: 10.15 | L39: =G39*K39 -> 10.15 | M39: =H39*K39 -> 1522.5 | N39: 14-2013 | O39: 41501 | P39: 14 | Q39: 41520 | R39: TAVI PAPELARIA MATERIAIS DE ESCRITORIO E INFORMATICA LT | S39: 3.11 | T39: =H39*S39 -> 466.5 | U39: 2014NE800428 | V39: 50 | W39: =V39*S39 -> 155.5 | X39: ENTREGUE | Y39: 41813 | Z39: 8074 | AA39: =H39-V39 -> 100 | AB39: 100 | AC39: =AB39*S39 -> 311
J40: Tesoura, conforme descrição em Anexo. | K40: 10.15 | L40: =G40*K40 -> 0 | M40: =H40*K40 -> 0 | N40: 14-2013 | O40: 41501 | P40: 14 | Q40: 41520 | R40: TAVI PAPELARIA MATERIAIS DE ESCRITORIO E INFORMATICA LT | S40: 3.11 | T40: =H40*S40 -> 0 | U40: 2014NE800670 | V40: 100 | W40: =V40*S40 -> 311 | X40: ENTREGUE | Y40: 41813 | Z40: 8075
...

Sheet Plan3
B1: DESPESAS DE CUSTEIO
B3: DISPENSAS DE LICITAÇÃO | C3: VLR NECESSÁRIO | D3: EMPENHAR EM 2013
B4: TOPOGRAPH | C4: 15470 | D4: 15470
B5: ARC GIS | C5: 26400.6 | D5: 26400.6
B6: RECARGAS GÁS | C6: 2050 | D6: 2050
B7: MANUTENÇÃO ESTUFAS | C7: 35014.67 | D7: 35014.67
B8: ALIMENTOS CTA E NUTRIÇÃO | C8: 1641.42 | D8: 1641.42
B9: TOTAL.................................................................................... | C9: =SUM(C3:C8) -> 80576.69 | D9: =SUM(D3:D8) -> 80576.69
B11: LICITAÇÕES PARA REGISTRO DE PREÇO
B12: JÁ LICITADOS
A13: 3.3.3.9.0.30.06 | B13: ALIMENTOS PARA ANIMAIS | C13: 9000 | D13: 3000 | E13: PE 18-2013 - QUANT.: 50 SACOS RAÇÃO CAMUNDONGO
A14: 3.3.3.9.0.30.11 | B14: MATERIAL QUÍMICO | C14: 47137 | D14: 0 | E14: PE 18-2013 - VER COM CRISTIANO SE LIBERARÁ RECURSO DA PESQUISA
A15: 3.3.3.9.0.30.11 | B15: MATERIAL QUÍMICO | C15: 9907.01 | D15: 9907.01 | E15: PE 18-2013
A16: 3.3.3.9.0.30.16 | B16: MATERIAL DE EXPEDIENTE | C16: 13729.9 | D16: 2382.4 | E16: PE 14-2013 - VALOR NECESSÁRIO = R$ 2.382,40
A17: 3.3.3.9.0.30.19 | B17: MATERIAL EMBALAGEM | C17: 11038.85 | D17: 750 | E17: PE 10-2013 - VER COM OS AGRONOMOS SE DÁ P/DIMINUIR VASOS E SACOS PAPEL
A18: 3.3.3.9.0.30.24 | B18: MATER MANUT BENS IMOVEIS | C18: 14799.85 | E18: PE 10-2013 - ITENS PED. L H JÚNIOR - VER O QUE DÁ PARA BAIXAR
A19: 3.3.3.9.0.30.24 | B19: MATER MANUT BENS IMOVEIS | C19: 21710.33 | D19: 18515.33 | E19: PE 10-2013 - ITENS PED. RODRIGO - VER O QUE DÁ P/BAIXAR
A20: 3.3.3.9.0.30.26 | B20: MATER ELÉTRICO | C20: 875.55 | D20: 0 | E20: PE 10-2013 - 03 BATERIAS P/CERCA ELÉTRICA
A21: 3.3.3.9.0.30.31 | B21: ADUBOS, INSUMOS E SEMENTES | C21: 29098.7 | D21: 27028.6 | E21: PE 24-2013 - ITENS PED. RODRIGO - VER O QUE DÁ P/BAIXAR
B22: TONNERS | C22: 17209.02 | D22: 10019.02
A23: 3.3.3.9.0.33.05 | B23: TRANSPORTE ÔNIBUS | C23: 1000 | D23: 1000 | E23: PE 16-2013 - JÁ EMPENHADO QUANTIDADE MÍNIMA PARA FAZER CONTRATO
B24: TOTAL.................................................................................... | C24: =SUM(C13:C23) -> 175506.21 | D24: =SUM(D13:D23) -> 72602.36
B26: AINDA NÃO LICITADOS
A27: 3.3.3.9.0.30.11 | B27: MATERIAL QUÍMICO | C27: 127794.8 | E27: PE 20-2013
A28: 3.3.3.9.0.30.21 | B28: MATERIAL COPA E COZINHA | C28: 1820.2 | E28: S/EDITAL AINDA. MATERIAL ALMOXARIFADO
A29: 3.3.3.9.0.30.22 | B29: MATERIAL LIMPEZA | C29: 34306.6 | E29: S/EDITAL AINDA. MATERIAL ALMOXARIFADO
A30: 3.3.3.9.0.30.28 | B30: EQUIP PROTEÇÃO E SEGURANÇA | C30: 17741 | E30: S/EDITAL AINDA. MATERIAL ALMOXARIFADO, LABORATÓRIOS E AGRONOMIA
A31: 3.3.3.9.0.30.35 | B31: MATERIAL LABORATORIAL | C31: 48514.6 | E31: PE 21-2013 VIDRARIAS E PLÁSTICOS
A32: 3.3.3.9.0.30.42 | B32: FERRAMENTAS | C32: 4103.8 | E32: FERRAMENTAS P/MANUTENÇÃO PREDIAL
A33: 3.3.3.9.0.30.42 | B33: FERRAMENTAS | C33: 1951.6 | E33: FERRAMENTAS P/CURSO AGRONOMIA
A34: 3.3.3.9.0.39.17 | B34: SERV RECARGAS EXTINTORES | C34: 2866.8
B35: TOTAL.................................................................................... | C35: =SUM(C27:C34) -> 239099.4
B37: DESPESAS DE INVESTIMENTO = MATERIAIS PERMANENTES
B40: MATERIAIS PERMANENTES JÁ LICITADOS
B41: EQUIP. E MÁQUINAS OFICINA | C41: 9807.99 | D41: 9807.99 | E41: PE 50-2012 - CURSO AGRONOMIA
B42: VENTILADOR DE COLUNA | C42: 8058 | D42: 2686 | E42: PE 60-2012 - QUANT. TOTAL LICITADA: 30; VALOR UNIT. R$ 268,60
B43: MICROSCÓPIO BIOLÓGICO | C43: 14999.5 | D43: 14999.5 | E43: PE 69-2012 - QUANT. LICITADA: 05; VALOR UNIT. R$ 2.999,90
B44: DIVISÓRIAS | C44: ?????
B45: Aparelho medidor pressão arterial | C45: 193.97 | D45: 193.97 | E45: ITEM 28 - PE 27/2012 - CAMPUS URUGUAIANA - CARONA AUTORIZADA EM 13/06/2013.
B46: Cafeteira industrial 8 L | C46: 415 | D46: 415 | E46: ITENS 78 (E 79) - PE 21-2012 ATA VÁLIDA ATÉ 22/10/2013.
...

Sheet Plan4
A1: DESCRIÇÃO | B1: PREGÃO | C1: DATA ABERTURA | D1: ITEM PREGÃO | E1: DATA HOMOLOG | F1: EMPRESA VENCEDORA | G1: QUANT. MÍNIMA | H1: QUANT. MÁXIMA | I1: UNID. | J1: VALOR UNIT. LICITADO | K1: VALOR TOTAL LICITADO QUANT. MÁXIMA | L1: Nº EMPENHO | M1: QTDE EMPENHADA | N1: VALOR EMP.
A2: Tubo pvc soldável, conforme descrição em Anexo. | B2: 10-2013 | C2: 41459 | D2: 25 | E2: 41477 | F2: COMERCIAL A. L. D. LTDA - ME | G2: 1 | H2: 50 | I2: TBO | J2: 55.3 | K2: 2765 | M2: 50 | N2: =M2*J2 -> 2765
A3: Tubo pvc roscável, conforme descrição em Anexo. | B3: 10-2013 | C3: 41459 | D3: 26 | E3: 41477 | F3: TROIANA EQUIPAMENTOS LTDA - ME | G3: 1 | H3: 267 | I3: UN | J3: 58.99 | K3: 15750.33 | M3: 267 | N3: =M3*J3 -> 15750.33
A4: Ripamento para telhado, conforme descrição em Anexo. | B4: 10-2013 | C4: 41459 | D4: 27 | E4: 41477 | F4: COMERCIAL A. L. D. LTDA - ME | G4: 1 | H4: 400 | I4: UN | J4: 6.45 | K4: 2580 | M4: 0 | N4: =M4*J4 -> 0
A5: Tinta esmalte sintético na cor branca, galão de 3600 ml, conforme descrição em Anexo. | B5: 10-2013 | C5: 41459 | D5: 28 | E5: 41477 | F5: HERBERTS & SCHUH LTDA | G5: 1 | H5: 15 | I5: GL | J5: 41 | K5: 615 | M5: 0 | N5: =M5*J5 -> 0
A6: Bateria automotiva, conforme descrição em Anexo. | B6: 10-2013 | C6: 41459 | D6: 29 | E6: 41477 | F6: OESTE BATERIAS E PEÇAS AUTOMOTIVAS LTDA - ME | G6: 1 | H6: 3 | I6: UN | J6: 291.85 | K6: 875.55 | M6: 0 | N6: =M6*J6 -> 0
A7: Saco de Papel Kraft, capacidade 10 kg, conforme descrição em Anexo. | B7: 10-2013 | C7: 41459 | D7: 33 | E7: 41477 | F7: MOREIRA & ZACHARKO LTDA - ME | G7: 1 | H7: 5 | I7: Fardo | J7: 239.77 | K7: 1198.85 | M7: 0 | N7: =M7*J7 -> 0
A8: Vaso de planta, vaso plástico para planta, cor branco, número 4, conforme descrição em Anexo. | B8: 10-2013 | C8: 41459 | D8: 34 | E8: 41477 | F8: E. V. SALDANHA & CIA LTDA - ME | G8: 1 | H8: 500 | I8: UN | J8: 3.44 | K8: 1720 | M8: 100 | N8: =M8*J8 -> 344
A9: Vaso de planta, vaso plástico para planta, cor branco, número 5, conforme descrição em Anexo. | B9: 10-2013 | C9: 41459 | D9: 35 | E9: 41477 | F9: E. V. SALDANHA & CIA LTDA - ME | G9: 1 | H9: 2000 | I9: UN | J9: 4.06 | K9: 8120 | M9: 100 | N9: =M9*J9 -> 406
A10: Adubo químico, CALCÁRIO | B10: 24-2013 | C10: 41498 | D10: 44 | E10: 41507 | F10: JOSE EURICO BRAGA CORREA - ME | G10: 1 | H10: 20 | I10: TON | J10: 207.01 | K10: 4140.2 | M10: 10 | N10: =M10*J10 -> 2070.1
A11: Adubo químico, CLORETO DE POTÁSSIO | B11: 24-2013 | C11: 41498 | D11: 45 | E11: 41507 | F11: JOSE EURICO BRAGA CORREA - ME | G11: 1 | H11: 50 | I11: SC | J11: 87.1 | K11: 4355 | M11: 50 | N11: =M11*J11 -> 4355
A12: Fertilizante natural, SUPER FOSFATO TRIPLO | B12: 24-2013 | C12: 41498 | D12: 46 | E12: 41507 | F12: JOSE EURICO BRAGA CORREA - ME | G12: 1 | H12: 50 | I12: SC | J12: 78.93 | K12: 3946.5 | M12: 50 | N12: =M12*J12 -> 3946.5
A13: Fertilizante uréia, conforme descrição em Anexo. | B13: 24-2013 | C13: 41498 | D13: 47 | E13: 41507 | F13: JOSE EURICO BRAGA CORREA - ME | G13: 1 | H13: 100 | I13: SC | J13: 78.94 | K13: 7894 | M13: 100 | N13: =M13*J13 -> 7894
... A16: Semente, tipo gramínea, AZEVÉM | B16: 24-2013 | C16: 41498 | D16: 50 | E16: 41507 | F16: JOSE EURICO BRAGA CORREA - ME | G16: 1 | H16: 300 | I16: KG | J16: 2.41 | K16: 723 | M16: 300 | N16: =M16*J16 -> 723
K17: =SUM(K2:K16) -> 62723.43 | N17: =SUM(N2:N16) -> 46293.93

Sheet Plan2
J2: VALOR A COMPRAR
A3: 33390.30.06 - CONSUMO = ALIMENTOS PARA ANIMAIS | H3: =SUMIF(Plan1!D1:D2027,"3.3.3.9.0.30.06",Plan1!M1:M2027) -> 9358.5 | J3: 9358.5
A4: 33390.30.11 - CONSUMO = REAGENTES | H4: =SUMIF(Plan1!D1:D2027,"3.3.3.9.0.30.11",Plan1!M1:M2027) -> 234397.41 | J4: 232487.79
A5: 33390.30.16 - CONSUMO = MATERIAL EXPEDIENTE | H5: =SUMIF(Plan1!D1:D2027,"3.3.3.9.0.30.16",Plan1!M1:M2027) -> 18564.3 | J5: 16976.3
A6: 33390.30.19 - CONSUMO = ACONDICIONAMENTO E EMBALAGEM | H6: =SUMIF(Plan1!D1:D2027,"3.3.3.9.0.30.19",Plan1!M1:M2027) -> 11261.65 | J6: 11038.85 | K6: CURSO AGRONOMIA = SACOS DE PAPEL, VASOS DE PLANTA
A7: 33390.30.21 - CONSUMO = COPA E COZINHA | H7: =SUMIF(Plan1!D1:D2027,"3.3.3.9.0.30.21",Plan1!M1:M2027) -> 1820.2 | J7: 1820.2 | K7: COORD. ADM. = COADOR CAFÉ, GARRAFA TÉRMICA
A8: 33390.30.22 - CONSUMO = MATERIAL DE LIMPEZA E HIGIENE | H8: =SUMIF(Plan1!D1:D2027,"3.3.3.9.0.30.22",Plan1!M1:M2027) -> 55832.29 | I8: EMPENHADO = R$ 2.505,69 | J8: 10829.7 | K8: COORD. ADM.= MATERIAL LIMPEZA ALMOXARIFADO
A9: 33390.30.24 - CONSUMO = MATERIAL MANUT. BENS IMOVEIS | H9: =SUMIF(Plan1!D1:D2027,"3.3.3.9.0.30.24",Plan1!M1:M2027) -> 43674.51 | I9: EMPENHADO = PISOS R$ 2.554,60 | J9: 36510.18 | K9: COORD. ADM. R$ 14.799,85 = ARGAMASSA, CIMENTO, AREIA, PEDRA BRITA, TINTA, PINCÉIS, LIXA; AGRONOMIA = R$ 21.710,33 = CANOS DE ÁGUA PVC, MADEIRAS E TINTA.
A10: 33390.30.25 - CONSUMO = MATERIAL MANUT. BENS MOVEIS | H10: =SUMIF(Plan1!D1:D2027,"3.3.3.9.0.30.25",Plan1!M1:M2027) -> 1449 | I10: EMPENHADO
A11: 33390.30.26 - CONSUMO = MATERIAL ELÉTRICO E ELETRONICO | H11: =SUMIF(Plan1!D1:D2027,"3.3.3.9.0.30.26",Plan1!M1:M2027) -> 1748.6 | J11: 875.55 | K11: CURSO AGRONOMIA = 03 BATERIAS AUTOMOTIVAS
A12: 33390.30.28 - CONSUMO = EQUIPAMENTO PROTEÇÃO E SEGURANÇA | H12: =SUMIF(Plan1!D$1:D$2027,"3.3.3.9.0.30.28",Plan1!M$1:M$2027) -> 17741 | J12: 3871.2 | K12: COORD. ADM. = R$ 3.016,20; AGRONOMIA = R$ 855,00 EPI
A13: 33390.30.31 - CONSUMO = SEMENTES, MUDAS DE PLANTAS E INSUMOS | H13: =SUMIF(Plan1!D$1:D$2027,"3.3.3.9.0.30.31",Plan1!M$1:M$2027) -> 33942.7 | I13: EMPENHADO R$ 992,00 | J13: 32950.7 | K13: CURSO AGRONOMIA
A14: 33390.30.35 - CONSUMO = MATERIAL LABORATORIAL (VIDRARIAS E PLÁSTICOS) | H14: =SUMIF(Plan1!D$1:D$2027,"3.3.3.9.0.30.35",Plan1!M$1:M$2027) -> 40114.78 | J14: 40116.1
A15: 33390.30.36 - CONSUMO = MATERIAL HOSPITALAR | H15: =SUMIF(Plan1!D$1:D$2027,"3.3.3.9.0.30.36",Plan1!M$1:M$2027) -> 8398.5 | J15: 8398.5
A16: 33390.30.42 - CONSUMO = FERRAMENTAS | H16: =SUMIF(Plan1!D$1:D$2027,"3.3.3.9.0.30.42",Plan1!M$1:M$2027) -> 6055.4 | J16: 6055.4
H17: =SUM(H3:H16) -> 484358.84 | I17: =H17*0.5 -> 242179.42
A20: 33390.33.05 - SERVIÇOS = TRANSPORTE DE PASSAGEIROS | H20: =SUMIF(Plan1!D$1:D$2027,"3.3.3.9.0.33.05",Plan1!M$1:M$2027) -> 220700 | J20: 30000
A21: 33390.39.01 - SERVIÇOS = ASSINATURA DE PERIÓDICOS E UNIDADES | H21: =SUMIF(Plan1!D1:D2027,"3.3.3.9.0.39.01",Plan1!M1:M2027) -> 7990 | I21: EMPENHADO
A22: 33390.39.10 - SERVIÇOS = LOCAÇÃO SALÃO | H22: =SUMIF(Plan1!D2:D2028,"3.3.3.9.0.39.10",Plan1!M2:M2028) -> 133250 | I22: EMPENHADO R$ 1.250,00 CAMPUS / 48.000,00 RECURSO PROPLAN | J22: 0
A23: 33390.39.17 - SERVIÇOS = MANUTENÇÃO BENS | H23: =SUMIF(Plan1!D1:D2027,"3.3.3.9.0.39.17",Plan1!M1:M2027) -> 68578.8 | I23: EMPENHADO R$ 300,00 ROÇADEIRA | J23: 36214.8 | K23: CURSO AGRONOMIA = R$ 33.348,00 ESTUFAS; COORD. ADM. = R$ 2.866,80 RECARGAS EXTINTORES
A24: 33390.39.43 - SERVIÇOS = ENERGIA ELÉTRICA | H24: =SUMIF(Plan1!D1:D2027,"3.3.3.9.0.39.43",Plan1!M1:M2027) -> 123600 | I24: RECURSO PROPLAN
A25: 33390.39.44 - SERVIÇOS = AGUA E ESGOTO | H25: =SUMIF(Plan1!D2:D2028,"3.3.3.9.0.39.44",Plan1!M2:M2028) -> 75600 | I25: RECURSO PROPLAN
A26: 33391.39.48 - SERVIÇOS = SERVIÇOS DE SELEÇÃO E TREINAMENTO (INTRAORÇAMENT) | H26: =SUMIF(Plan1!D2:D2028,"3.3.3.9.1.39.48",Plan1!M2:M2028) -> 900 | I26: EMPENHADO RECURSO NUDEPE
H27: =SUM(H20:H26) -> 630618.8
A30: 34490.52.04 - PERMANENTE = EQUIP MEDIÇÃO E ORIENTAÇÃO | H30: =SUMIF(Plan1!D6:D2032,"3.4.4.9.0.52.04",Plan1!M6:M2032) -> 124660.14 | J30: 74133.32 | K30: VÁRIOS CURSOS = R$ 1.935,32 PEAGÂMETROS; ENG. AGRIM. = R$ 72.198,00 ESTAÇÕES TOTAIS
A31: 34490.52.08 - PERMANENTE = EQUIPAMENTO LABORATORIAL | H31: =SUMIF(Plan1!D$2:D$2026,"3.4.4.9.0.52.08",Plan1!M$2:M$2026) -> 1465895.9 | K31: VÁRIOS CURSOS = R$ 20.466,56
A32: 34490.52.12 - PERMANENTE = UTENSÍLIOS DOMÉSTICOS | H32: =SUMIF(Plan1!D$2:D$2026,"3.4.4.9.0.52.12",Plan1!M$2:M$2026) -> 17516.46
A33: 34490.52.24 - PERMANENTE = EQUIPAMENTOS DE SEGURANÇA | H33: =SUMIF(Plan1!D$2:D$2026,"3.4.4.9.0.52.24",Plan1!M$2:M$2026) -> 6580
A34: 34490.52.30 - PERMANENTE = MAQ E EQUIP ENERGETICOS | H34: =SUMIF(Plan1!D$2:D$2026,"3.4.4.9.0.52.30",Plan1!M$2:M$2026) -> 3579
A35: 34490.52.36 - PERMANENTE = MAQ INST E UTENS ESCRITORIO | H35: =SUMIF(Plan1!D$2:D$2026,"3.4.4.9.0.52.36",Plan1!M$2:M$2026) -> 2846.8
A36: 34490.52.38 - PERMANENTE = MAQ EQUIP OFICINA | H36: =SUMIF(Plan1!D$2:D$2026,"3.4.4.9.0.52.38",Plan1!M$2:M$2026) -> 6392.42
A37: 34490.52.40 - PERMANENTE = MAQ EQUIP AGRICOLAS E RODOVIARIOS | H37: =SUMIF(Plan1!D$2:D$2026,"3.4.4.9.0.52.40",Plan1!M$2:M$2026) -> 646665
A38: 34490.52.42 - PERMANENTE = MOBILIARIOS EM GERAL | H38: =SUMIF(Plan1!D$2:D$2026,"3.4.4.9.0.52.42",Plan1!M$2:M$2026) -> 50022.8 | I38: EMPENHADO RECURSO COORD. BIBLIOTECAS
H39: =SUM(H30:H38) -> 2324158.5
H42: -3157320.4
